BEGIN:VCALENDAR
VERSION:2.0
PRODID:-//Fifth Masonic District of Pennsylvania - ECPv6.15.17//NONSGML v1.0//EN
CALSCALE:GREGORIAN
METHOD:PUBLISH
X-WR-CALNAME:Fifth Masonic District of Pennsylvania
X-ORIGINAL-URL:https://5thdistrictpa.com
X-WR-CALDESC:Events for Fifth Masonic District of Pennsylvania
REFRESH-INTERVAL;VALUE=DURATION:PT1H
X-Robots-Tag:noindex
X-PUBLISHED-TTL:PT1H
BEGIN:VTIMEZONE
TZID:America/New_York
BEGIN:DAYLIGHT
TZOFFSETFROM:-0500
TZOFFSETTO:-0400
TZNAME:EDT
DTSTART:20220313T070000
END:DAYLIGHT
BEGIN:STANDARD
TZOFFSETFROM:-0400
TZOFFSETTO:-0500
TZNAME:EST
DTSTART:20221106T060000
END:STANDARD
BEGIN:DAYLIGHT
TZOFFSETFROM:-0500
TZOFFSETTO:-0400
TZNAME:EDT
DTSTART:20230312T070000
END:DAYLIGHT
BEGIN:STANDARD
TZOFFSETFROM:-0400
TZOFFSETTO:-0500
TZNAME:EST
DTSTART:20231105T060000
END:STANDARD
BEGIN:DAYLIGHT
TZOFFSETFROM:-0500
TZOFFSETTO:-0400
TZNAME:EDT
DTSTART:20240310T070000
END:DAYLIGHT
BEGIN:STANDARD
TZOFFSETFROM:-0400
TZOFFSETTO:-0500
TZNAME:EST
DTSTART:20241103T060000
END:STANDARD
BEGIN:DAYLIGHT
TZOFFSETFROM:-0500
TZOFFSETTO:-0400
TZNAME:EDT
DTSTART:20250309T070000
END:DAYLIGHT
BEGIN:STANDARD
TZOFFSETFROM:-0400
TZOFFSETTO:-0500
TZNAME:EST
DTSTART:20251102T060000
END:STANDARD
END:VTIMEZONE
BEGIN:VEVENT
DTSTART;TZID=America/New_York:20241202T193000
DTEND;TZID=America/New_York:20241202T220000
DTSTAMP:20260421T052009
CREATED:20240205T152739Z
LAST-MODIFIED:20240205T234115Z
UID:2289-1733167800-1733176800@5thdistrictpa.com
SUMMARY:Stated Meeting | West Chester Lodge #322
DESCRIPTION:
URL:https://5thdistrictpa.com/event/stated-meeting-west-chester-lodge-322-8/
LOCATION:West Chester Lodge No. 322\, 10 S Church St #1\, West Chester\, PA\, 19382\, United States
ATTACH;FMTTYPE=image/jpeg:https://5thdistrictpa.com/wp-content/uploads/2023/02/West-Chester-Lodge.jpg
END:VEVENT
BEGIN:VEVENT
DTSTART;TZID=America/New_York:20241203T193000
DTEND;TZID=America/New_York:20241203T220000
DTSTAMP:20260421T052009
CREATED:20240205T152739Z
LAST-MODIFIED:20240205T234743Z
UID:2290-1733254200-1733263200@5thdistrictpa.com
SUMMARY:Stated Meeting | Brandywine-Goddard Lodge #383
DESCRIPTION:
URL:https://5thdistrictpa.com/event/stated-meeting-brandywine-goddard-lodge-383-8/
LOCATION:Brandywine-Goddard Lodge No. 383\, 360 East Lincoln Highway\, Coatesville\, PA\, 19320\, United States
ATTACH;FMTTYPE=image/jpeg:https://5thdistrictpa.com/wp-content/uploads/2023/02/Brandywine-Goddard.jpg
END:VEVENT
BEGIN:VEVENT
DTSTART;TZID=America/New_York:20241203T193000
DTEND;TZID=America/New_York:20241203T220000
DTSTAMP:20260421T052009
CREATED:20240205T152739Z
LAST-MODIFIED:20240205T235740Z
UID:2291-1733254200-1733263200@5thdistrictpa.com
SUMMARY:Stated Meeting | Skerrett Lodge #343
DESCRIPTION:
URL:https://5thdistrictpa.com/event/stated-meeting-skerret-lodge-343-8/
LOCATION:Skerrett Lodge No. 343\, 173 Cochran Street\, Cochranville\, PA\, 19330\, United States
ATTACH;FMTTYPE=image/jpeg:https://5thdistrictpa.com/wp-content/uploads/2023/02/Skerrett-Lodge.jpg
END:VEVENT
BEGIN:VEVENT
DTSTART;TZID=America/New_York:20240306T190000
DTEND;TZID=America/New_York:20240306T203000
DTSTAMP:20260421T052009
CREATED:20240209T201841Z
LAST-MODIFIED:20240209T201841Z
UID:2597-1709751600-1709757000@5thdistrictpa.com
SUMMARY:Esoteric Knowledge Discussion | Thomson Lodge #340
DESCRIPTION:Join us as we discuss Masonic charges\, symbolism\, the meanings behind them and how they relate to us as modern men. \nPizza\, libations and good fellowship will be provided!
URL:https://5thdistrictpa.com/event/esoteric-knowledge-discussion-thomson-lodge-340/
LOCATION:Thomson Lodge No. 340\, 19 South Valley Road\, Paoli\, PA\, 19301\, United States
ATTACH;FMTTYPE=image/jpeg:https://5thdistrictpa.com/wp-content/uploads/2024/02/Esoteric-Discussion.jpg
END:VEVENT
BEGIN:VEVENT
DTSTART;TZID=America/New_York:20241204T193000
DTEND;TZID=America/New_York:20241204T220000
DTSTAMP:20260421T052009
CREATED:20240205T152739Z
LAST-MODIFIED:20240206T000436Z
UID:2292-1733340600-1733349600@5thdistrictpa.com
SUMMARY:Stated Meeting | Oxford Lodge #353
DESCRIPTION:
URL:https://5thdistrictpa.com/event/stated-meeting-oxford-lodge-353-8/
LOCATION:Oxford Lodge No. 353\, 246 N 3rd Street\, Oxford\, PA\, 19363\, United States
ATTACH;FMTTYPE=image/jpeg:https://5thdistrictpa.com/wp-content/uploads/2023/02/Oxford-Lodge.jpg
END:VEVENT
BEGIN:VEVENT
DTSTART;TZID=America/New_York:20230105T193000
DTEND;TZID=America/New_York:20230105T213000
DTSTAMP:20260421T052009
CREATED:20230428T214931Z
LAST-MODIFIED:20240205T154208Z
UID:2052-1672947000-1672954200@5thdistrictpa.com
SUMMARY:Stated Meeting | Kennett Lodge #475
DESCRIPTION:
URL:https://5thdistrictpa.com/event/kennett-lodge-no-475-stated-meeting/
LOCATION:Kennett Lodge No. 475\, 121 Center Street\, Kennett Square\, PA\, 19348\, United States
ATTACH;FMTTYPE=image/jpeg:https://5thdistrictpa.com/wp-content/uploads/2023/02/Kennett-Lodge.jpg
END:VEVENT
BEGIN:VEVENT
DTSTART;TZID=America/New_York:20241205T193000
DTEND;TZID=America/New_York:20241205T220000
DTSTAMP:20260421T052009
CREATED:20240205T152740Z
LAST-MODIFIED:20240206T142732Z
UID:2293-1733427000-1733436000@5thdistrictpa.com
SUMMARY:Stated Meeting | Christiana Lodge #417
DESCRIPTION:
URL:https://5thdistrictpa.com/event/stated-meeting-christiana-lodge-417-8/
LOCATION:Christiana Lodge No. 417\, 115 E Slokom Ave\, Christiana\, PA\, 17509\, United States
ATTACH;FMTTYPE=image/jpeg:https://5thdistrictpa.com/wp-content/uploads/2023/02/Christiana-Lodge.jpg
END:VEVENT
BEGIN:VEVENT
DTSTART;TZID=America/New_York:20240210T083000
DTEND;TZID=America/New_York:20240210T100000
DTSTAMP:20260421T052009
CREATED:20240207T173930Z
LAST-MODIFIED:20240209T155612Z
UID:2507-1707553800-1707559200@5thdistrictpa.com
SUMMARY:Lodge of Instruction | Thomson Lodge #340
DESCRIPTION:Please join us for coffee\, donuts and study. We will practice and review the Work\, including Degrees and Business of the Lodge. \nThis is open to any Brother within the district.
URL:https://5thdistrictpa.com/event/lodge-of-instruction-thomson-lodge-340/
LOCATION:Thomson Lodge No. 340\, 19 South Valley Road\, Paoli\, PA\, 19301\, United States
ATTACH;FMTTYPE=image/jpeg:https://5thdistrictpa.com/wp-content/uploads/2024/02/Masonic-Instruction-3.jpg
END:VEVENT
BEGIN:VEVENT
DTSTART;TZID=America/New_York:20241209T190000
DTEND;TZID=America/New_York:20241209T210000
DTSTAMP:20260421T052009
CREATED:20240205T152740Z
LAST-MODIFIED:20240209T161205Z
UID:2294-1733770800-1733778000@5thdistrictpa.com
SUMMARY:DSOI | Brandywine-Goddard Lodge #383
DESCRIPTION:
URL:https://5thdistrictpa.com/event/dsoi-brandywine-goddard-lodge-383-9/
LOCATION:Brandywine-Goddard Lodge No. 383\, 360 East Lincoln Highway\, Coatesville\, PA\, 19320\, United States
ATTACH;FMTTYPE=image/jpeg:https://5thdistrictpa.com/wp-content/uploads/2023/02/Brandywine-Goddard.jpg
END:VEVENT
BEGIN:VEVENT
DTSTART;TZID=America/New_York:20241211T193000
DTEND;TZID=America/New_York:20241211T220000
DTSTAMP:20260421T052009
CREATED:20240205T152740Z
LAST-MODIFIED:20240206T001228Z
UID:2295-1733945400-1733954400@5thdistrictpa.com
SUMMARY:Stated Meeting | Thomson Lodge #340
DESCRIPTION:
URL:https://5thdistrictpa.com/event/stated-meeting-thomson-lodge-340-8/
LOCATION:Thomson Lodge No. 340\, 19 South Valley Road\, Paoli\, PA\, 19301\, United States
ATTACH;FMTTYPE=image/jpeg:https://5thdistrictpa.com/wp-content/uploads/2023/02/Thomson-Lodge.jpg
END:VEVENT
BEGIN:VEVENT
DTSTART;TZID=America/New_York:20240210T083000
DTEND;TZID=America/New_York:20240210T100000
DTSTAMP:20260421T052009
CREATED:20240207T173930Z
LAST-MODIFIED:20240209T155612Z
UID:2507-1707553800-1707559200@5thdistrictpa.com
SUMMARY:Lodge of Instruction | Thomson Lodge #340
DESCRIPTION:Please join us for coffee\, donuts and study. We will practice and review the Work\, including Degrees and Business of the Lodge. \nThis is open to any Brother within the district.
URL:https://5thdistrictpa.com/event/lodge-of-instruction-thomson-lodge-340/
LOCATION:Thomson Lodge No. 340\, 19 South Valley Road\, Paoli\, PA\, 19301\, United States
ATTACH;FMTTYPE=image/jpeg:https://5thdistrictpa.com/wp-content/uploads/2024/02/Masonic-Instruction-3.jpg
END:VEVENT
BEGIN:VEVENT
DTSTART;TZID=America/New_York:20241216T193000
DTEND;TZID=America/New_York:20241216T220000
DTSTAMP:20260421T052009
CREATED:20240205T152740Z
LAST-MODIFIED:20240206T002302Z
UID:2296-1734377400-1734386400@5thdistrictpa.com
SUMMARY:Stated Meeting | New London Lodge # 545
DESCRIPTION:
URL:https://5thdistrictpa.com/event/stated-meeting-new-london-lodge-545-8/
LOCATION:New London Lodge No. 545\, 902 State Road\, West Grove\, PA\, 19390\, United States
ATTACH;FMTTYPE=image/jpeg:https://5thdistrictpa.com/wp-content/uploads/2023/02/New-London-Lodge.jpg
END:VEVENT
BEGIN:VEVENT
DTSTART;TZID=America/New_York:20241218T193000
DTEND;TZID=America/New_York:20241218T220000
DTSTAMP:20260421T052009
CREATED:20240205T152740Z
LAST-MODIFIED:20240206T002817Z
UID:2297-1734550200-1734559200@5thdistrictpa.com
SUMMARY:Stated Meeting | Howell Lodge #405
DESCRIPTION:
URL:https://5thdistrictpa.com/event/stated-meeting-howell-lodge-405-8/
LOCATION:Howell Lodge No. 405\, 1505 Walnut Road\, Honey Brook\, PA\, 19344\, United States
ATTACH;FMTTYPE=image/jpeg:https://5thdistrictpa.com/wp-content/uploads/2023/02/Howell-Lodge.jpg
END:VEVENT
BEGIN:VEVENT
DTSTART;TZID=America/New_York:20241218T193000
DTEND;TZID=America/New_York:20241218T220000
DTSTAMP:20260421T052009
CREATED:20240205T152740Z
LAST-MODIFIED:20240206T001740Z
UID:2298-1734550200-1734559200@5thdistrictpa.com
SUMMARY:Stated Meeting | Williamson Lodge #309
DESCRIPTION:
URL:https://5thdistrictpa.com/event/stated-meeting-williamson-lodge-309-8/
LOCATION:Williamson Lodge No. 309\, 210 Manor Avenue\, Downingtown\, PA\, 19335\, United States
ATTACH;FMTTYPE=image/jpeg:https://5thdistrictpa.com/wp-content/uploads/2023/02/Williamson-Lodge-1.jpg
END:VEVENT
BEGIN:VEVENT
DTSTART;TZID=America/New_York:20240210T083000
DTEND;TZID=America/New_York:20240210T100000
DTSTAMP:20260421T052009
CREATED:20240207T173930Z
LAST-MODIFIED:20240209T155612Z
UID:2507-1707553800-1707559200@5thdistrictpa.com
SUMMARY:Lodge of Instruction | Thomson Lodge #340
DESCRIPTION:Please join us for coffee\, donuts and study. We will practice and review the Work\, including Degrees and Business of the Lodge. \nThis is open to any Brother within the district.
URL:https://5thdistrictpa.com/event/lodge-of-instruction-thomson-lodge-340/
LOCATION:Thomson Lodge No. 340\, 19 South Valley Road\, Paoli\, PA\, 19301\, United States
ATTACH;FMTTYPE=image/jpeg:https://5thdistrictpa.com/wp-content/uploads/2024/02/Masonic-Instruction-3.jpg
END:VEVENT
BEGIN:VEVENT
DTSTART;TZID=America/New_York:20240210T083000
DTEND;TZID=America/New_York:20240210T100000
DTSTAMP:20260421T052009
CREATED:20240207T173930Z
LAST-MODIFIED:20240209T155612Z
UID:2507-1707553800-1707559200@5thdistrictpa.com
SUMMARY:Lodge of Instruction | Thomson Lodge #340
DESCRIPTION:Please join us for coffee\, donuts and study. We will practice and review the Work\, including Degrees and Business of the Lodge. \nThis is open to any Brother within the district.
URL:https://5thdistrictpa.com/event/lodge-of-instruction-thomson-lodge-340/
LOCATION:Thomson Lodge No. 340\, 19 South Valley Road\, Paoli\, PA\, 19301\, United States
ATTACH;FMTTYPE=image/jpeg:https://5thdistrictpa.com/wp-content/uploads/2024/02/Masonic-Instruction-3.jpg
END:VEVENT
END:VCALENDAR